BEGIN:VCALENDAR
VERSION:2.0
PRODID:-//Plone.org//NONSGML plone.app.event//EN
X-WR-TIMEZONE:Europe/Berlin
BEGIN:VEVENT
SUMMARY:Welcome to bonndata!
DTSTART:20230830T123000
DTEND:20230830T124500
DTSTAMP:20260425T144000Z
UID:864fc69c829548f89291c83441254b4f@www.uni-bonn.de
CREATED:20230315T144837Z
DESCRIPTION:The new repository for publishing your research data \n\nThe R
 esearch Data Service Center will soon offer researchers of the University 
 of Bonn an institutional research data repository bonndata for the permane
 nt storage and organization of digital research data. This service offers 
 storage options for your data. Learn more about this new service in our pr
 esentation!\n\nThe Open Access & Research Data Service Centers are continu
 ing the Open Science Coffee Lectures in the summer semester 2023. Speaker:
  Sergej Zerr and Ewa Bres\, ULB
LAST-MODIFIED:20250906T011451Z
URL:https://www.uni-bonn.de/de/veranstaltungen/welcome-to-bonndata
END:VEVENT
BEGIN:VTIMEZONE
TZID:Europe/Berlin
X-LIC-LOCATION:Europe/Berlin
BEGIN:DAYLIGHT
DTSTART:20230326T030000
TZNAME:CEST
TZOFFSETFROM:+0100
TZOFFSETTO:+0200
END:DAYLIGHT
END:VTIMEZONE
END:VCALENDAR
