BEGIN:VCALENDAR
VERSION:2.0
PRODID:-//Plone.org//NONSGML plone.app.event//EN
X-WR-TIMEZONE:Europe/Berlin
BEGIN:VEVENT
SUMMARY:Welcome Days: Infoveranstaltung vor der Anreise im September
DTSTART;TZID=Europe/Berlin:20250813T120000
DTEND;TZID=Europe/Berlin:20250813T130000
DTSTAMP:20260424T053655Z
UID:49f1daaf51ca4986b87ba90df256e658@www.uni-bonn.de
CATEGORIES:International Office,6.3,Campus International,Welcome Days,Stud
 ierende,Promovierende,International
CREATED:20240708T104022Z
DESCRIPTION:Bereitet Euch auf Eure Abreise nach Deutschland/ Bonn vor und 
 nehmt an unserer Pre-Arrival-Info-Session teil. Die Veranstaltung ist für
  alle internationalen Studierenden gedacht\, die im September nach Bonn ko
 mmen. In der Info-Session bekommt Ihr wichtige Infos rund um Euer Studium 
 in Bonn. Darüber hinaus werdet Ihr die Möglichkeit haben Fragen zu stell
 en. (Welcome Days) \n\nDer Zoom-Link wird am Morgen der Veranstaltung ver
 öffentlicht.
LAST-MODIFIED:20250906T034019Z
URL:https://www.uni-bonn.de/de/veranstaltungen/welcome-days-infoveranstalt
 ung-september
END:VEVENT
BEGIN:VTIMEZONE
TZID:Europe/Berlin
X-LIC-LOCATION:Europe/Berlin
BEGIN:DAYLIGHT
DTSTART:20250330T030000
TZNAME:CEST
TZOFFSETFROM:+0100
TZOFFSETTO:+0200
END:DAYLIGHT
END:VTIMEZONE
END:VCALENDAR
