BEGIN:VCALENDAR
VERSION:2.0
PRODID:-//Plone.org//NONSGML plone.app.event//EN
X-WR-TIMEZONE:Europe/Berlin
BEGIN:VEVENT
SUMMARY:Weaving Practices from Tarabuco\, Bolivia
DTSTART:20260117T160000
DTEND:20260117T180000
DTSTAMP:20260422T134232Z
UID:d8471d0931ce4cd5ad69ed5916efdd73@www.uni-bonn.de
CREATED:20260108T132641Z
DESCRIPTION:Join our conversation about Indigenous textile knowledge from 
 the Tarabuco community in Bolivia and the cultural meanings of weaving. Th
 rough storytelling and shared reflections\, this event explores weaving as
  a social\, spiritual\, and political practice. At the same time\, weaving
  practices have been shaped by ongoing colonial and capitalist structures\
 , which have commodified textiles and changed how people relate to it and 
 to each other. The event creates space to rethink who benefits from cultur
 al production and how Indigenous weaving continues to negotiate power\, vi
 sibility\, and survival. The conversation is followed by a screening of th
 e short film “Awanasunchis (2020/21)” showing impressions of weaving a
 s a living cultural practice.\nTogether with Leo Stotz from the Tarabuco c
 ommunity and founder of the Fundación Cultural Ayllu Tarabucomanta from B
 olivia\, we invite you to a welcoming space for exchange and dialogue. Com
 e by\, get involved and experience textiles through touch.
LAST-MODIFIED:20260108T133300Z
URL:https://www.uni-bonn.de/de/veranstaltungen/weaving-practices-from-tara
 buco-bolivia
END:VEVENT
BEGIN:VTIMEZONE
TZID:Europe/Berlin
X-LIC-LOCATION:Europe/Berlin
BEGIN:STANDARD
DTSTART:20251026T020000
TZNAME:CET
TZOFFSETFROM:+0200
TZOFFSETTO:+0100
END:STANDARD
END:VTIMEZONE
END:VCALENDAR
