BEGIN:VCALENDAR
VERSION:2.0
PRODID:-//Plone.org//NONSGML plone.app.event//EN
X-WR-TIMEZONE:Europe/Berlin
BEGIN:VEVENT
SUMMARY:Water related risks: Hazards\, exposure & vulnerability in Sweden
DTSTART:20241120T171500
DTEND:20241120T184500
DTSTAMP:20260424T051207Z
UID:2c896c2d576e4372bd46890f7916b6f7@www.uni-bonn.de
CREATED:20241016T094440Z
DESCRIPTION:Water related risks: Hazards\, exposure & vulnerability in Swe
 den
LAST-MODIFIED:20241016T103058Z
URL:https://www.uni-bonn.de/de/veranstaltungen/water-related-risks-hazards
 -exposure-vulnerability-in-sweden
END:VEVENT
BEGIN:VTIMEZONE
TZID:Europe/Berlin
X-LIC-LOCATION:Europe/Berlin
BEGIN:STANDARD
DTSTART:20241027T020000
TZNAME:CET
TZOFFSETFROM:+0200
TZOFFSETTO:+0100
END:STANDARD
END:VTIMEZONE
END:VCALENDAR
