BEGIN:VCALENDAR
VERSION:2.0
PRODID:-//Plone.org//NONSGML plone.app.event//EN
X-WR-TIMEZONE:Europe/Berlin
BEGIN:VEVENT
SUMMARY:Wahres über Rares
DTSTART:20240410T110000
DTEND:20240410T170000
DTSTAMP:20260422T031055Z
UID:b5404a9c731b4ced8452a7fe0152d18b@www.uni-bonn.de
CREATED:20240325T101940Z
DESCRIPTION:Sie haben sich schon immer gefragt\, wie alt ein Objekt ist\, 
 das Sie geerbt oder gefunden haben? Sie besitzen alte Schriftstücke\, die
  Sie nicht lesen und entziffern können? Und Sie fragen sich\, welche Gesc
 hichte hinter den Objekten stecken mag? \nZum Tag der Provenienzforschung 
 am 10.04.2024 haben Sie von 11-17 Uhr nach der Art von „Kunst und Krempe
 l“ Neues über ganz Altes zu erfahren und ihre Fragen an Fachwissenschaf
 tler:innen der Universität Bonn zu stellen. Es kann sich dabei um alte Br
 iefe\, Tagebücher und andere Schriftstücke handeln\, oder auch Kunst- un
 d Alltagsgegenstände aus früheren Zeiten sowie naturhistorische Objekte.
  Dabei geht es explizit um die spannenden Geschichten\, die hinter den Obj
 ekten stehen\, und nicht um eine Beurteilung des monetären Wertes.  \nDie
  Teilnahme ist kostenfrei und es ist keine Voranmeldung notwendig. Hilfrei
 ch sind allerdings Informationen oder Fotos\, die Sie uns vorab per E-Mail
  oder per Post zukommen lassen können.
LAST-MODIFIED:20250906T012149Z
URL:https://www.uni-bonn.de/de/veranstaltungen/wahres-ueber-rares
END:VEVENT
BEGIN:VTIMEZONE
TZID:Europe/Berlin
X-LIC-LOCATION:Europe/Berlin
BEGIN:DAYLIGHT
DTSTART:20240331T030000
TZNAME:CEST
TZOFFSETFROM:+0100
TZOFFSETTO:+0200
END:DAYLIGHT
END:VTIMEZONE
END:VCALENDAR
