BEGIN:VCALENDAR
VERSION:2.0
PRODID:-//Plone.org//NONSGML plone.app.event//EN
X-WR-TIMEZONE:Europe/Berlin
BEGIN:VEVENT
SUMMARY:Tour d'Algebra 2024
DTSTART;VALUE=DATE:20240919
DTEND;VALUE=DATE:20240923
DTSTAMP:20260419T182312Z
UID:4bbab03130f446359c5c26b98e171f17@www.uni-bonn.de
CREATED:20240912T135627Z
DESCRIPTION:Wir\, der Uni Radsportclub "Radius" veranstalten die 7. Ausgab
 e der Tour d'Algebra (TDA). Auf 250 km geht es quer durch die Region. 7 Et
 appe führen unter anderem nach Euskirchen\, Siegburg\, Königswinter\, H
 ürth und Bad Neuenahr - Ahrweiler.
LAST-MODIFIED:20250906T034007Z
URL:https://www.uni-bonn.de/de/veranstaltungen/tour-dalgebra-2024
END:VEVENT
END:VCALENDAR
