BEGIN:VCALENDAR
VERSION:2.0
PRODID:-//Plone.org//NONSGML plone.app.event//EN
X-WR-TIMEZONE:Europe/Berlin
BEGIN:VEVENT
SUMMARY:Themenführung Moose
DTSTART:20230205T140000
DTEND:20230205T153000
DTSTAMP:20260420T065110Z
UID:db1687484f8949249b98319409e663d8@www.uni-bonn.de
CREATED:20230202T132839Z
DESCRIPTION:Unsere erste Themenführung des Jahres führt Sie in die Welt 
 des ganz Kleinen. Ausgestattet mit Lupen begleitet Sie Peter Tautz auf die
 ser Reise ins Reich der Moose.
LAST-MODIFIED:20250906T011418Z
URL:https://www.uni-bonn.de/de/veranstaltungen/themenfuehrung-moose
END:VEVENT
BEGIN:VTIMEZONE
TZID:Europe/Berlin
X-LIC-LOCATION:Europe/Berlin
BEGIN:STANDARD
DTSTART:20221030T020000
TZNAME:CET
TZOFFSETFROM:+0200
TZOFFSETTO:+0100
END:STANDARD
END:VTIMEZONE
END:VCALENDAR
