BEGIN:VCALENDAR
VERSION:2.0
PRODID:-//Plone.org//NONSGML plone.app.event//EN
X-WR-TIMEZONE:Europe/Berlin
BEGIN:VEVENT
SUMMARY:The Stage is Yours
DTSTART:20240506T200000
DTEND:20240506T220000
DTSTAMP:20260425T153346Z
UID:e7c1075825804304a9fdb4ed31c6bb75@www.uni-bonn.de
CREATED:20240307T135504Z
DESCRIPTION:”The Stage is Yours” geht in die nächste Runde! Poetry-Sl
 am\, Gesangs- und Tanzeinlagen\, Theaterstücke\, Kurzfilme oder Gedichtsl
 esungen. Euch könnte an diesem Abend alles erwarten. Das Contra-Kreis-The
 ater bietet Studierenden der Uni Bonn die große Bühne und öffnet seine 
 Türen für Kunst\, Kultur und Unterhaltung.\nGemeinsam mit dem AStA-Kultu
 rreferat entstand die Idee\, Bonner Studierenden einen Ort zur Verfügung 
 zu stellen\, wo sie ihre Talente\, Projekte und Performances einem interes
 sierten Publikum präsentieren können.\n\nDer Eintritt ist frei!
LAST-MODIFIED:20240308T065403Z
URL:https://www.uni-bonn.de/de/veranstaltungen/the-stage-is-yours-1
END:VEVENT
BEGIN:VTIMEZONE
TZID:Europe/Berlin
X-LIC-LOCATION:Europe/Berlin
BEGIN:DAYLIGHT
DTSTART:20240331T030000
TZNAME:CEST
TZOFFSETFROM:+0100
TZOFFSETTO:+0200
END:DAYLIGHT
END:VTIMEZONE
END:VCALENDAR
