BEGIN:VCALENDAR
VERSION:2.0
PRODID:-//Plone.org//NONSGML plone.app.event//EN
X-WR-TIMEZONE:Europe/Berlin
BEGIN:VEVENT
SUMMARY:The emerging global challenge of data authoritarianism
DTSTART:20231116T180000
DTEND:20231116T193000
DTSTAMP:20260424T074015Z
UID:d23d79490cc44c4aa0a673440a3c99b1@www.uni-bonn.de
CREATED:20231023T172601Z
DESCRIPTION:With the rise of digital economies and digital innovations\, i
 ssues surrounding data are becoming increasingly important in public debat
 es around the world. While new challenges have emerged regarding data misu
 ses in the past years\, the political\, legal and multilateral responses h
 ave been lagging\, partly due to the complexity of these new phenomena. Ex
 amples of use and misuse of power abound\, ranging from new forms of digit
 al repression\, surveillance and propaganda\, to small- and large-scale di
 sinformation\, not to mention foreign interference in national elections a
 nd politics at large. Against this backdrop\, this year’s Megatrends lec
 ture\, jointly organized by CASSIS Bonn\, EADI and IDOS/Megatrends Afrika\
 , investigates the central links between the growing digitalisation of the
  economy and the rising threats to public\, civil and political freedom.
LAST-MODIFIED:20250906T012021Z
URL:https://www.uni-bonn.de/de/veranstaltungen/the-emerging-global-challen
 ge-of-data-authoritarianism-1
END:VEVENT
BEGIN:VTIMEZONE
TZID:Europe/Berlin
X-LIC-LOCATION:Europe/Berlin
BEGIN:STANDARD
DTSTART:20231029T020000
TZNAME:CET
TZOFFSETFROM:+0200
TZOFFSETTO:+0100
END:STANDARD
END:VTIMEZONE
END:VCALENDAR
