BEGIN:VCALENDAR
VERSION:2.0
PRODID:-//Plone.org//NONSGML plone.app.event//EN
X-WR-TIMEZONE:Europe/Berlin
BEGIN:VEVENT
SUMMARY:The Constitution of Things
DTSTART;TZID=Europe/Berlin:20220322T183000
DTEND;TZID=Europe/Berlin:20220322T203000
DTSTAMP:20260422T183128Z
UID:d2272472978f4c01b8e020bdc1dcddfe@www.uni-bonn.de
CREATED:20210930T092312Z
DESCRIPTION:Digitaler Vortrag von Prof. Dr. Christoph Schönberger im Rahm
 en des Forums "Recht als Kultur" zum Thema "The Constitution of Things"
LAST-MODIFIED:20221130T101619Z
URL:https://www.uni-bonn.de/de/veranstaltungen/the-constitution-of-things
END:VEVENT
BEGIN:VTIMEZONE
TZID:Europe/Berlin
X-LIC-LOCATION:Europe/Berlin
BEGIN:STANDARD
DTSTART:20211031T020000
TZNAME:CET
TZOFFSETFROM:+0200
TZOFFSETTO:+0100
END:STANDARD
END:VTIMEZONE
END:VCALENDAR
