BEGIN:VCALENDAR
VERSION:2.0
PRODID:-//Plone.org//NONSGML plone.app.event//EN
X-WR-TIMEZONE:Europe/Berlin
BEGIN:VEVENT
SUMMARY:Teaching. Tomorrow. Together.
DTSTART:20230512T183000
DTEND:20230512T200000
DTSTAMP:20260426T010028Z
UID:6f7f772959904447ac2c9782f0da7eca@www.uni-bonn.de
CREATED:20230421T125455Z
DESCRIPTION:Auftaktveranstaltung der 41. Jahrestagung der Gesellschaft fü
 r Tropenpädiatrie und Internationale Kindergesundheit
LAST-MODIFIED:20230426T063515Z
URL:https://www.uni-bonn.de/de/veranstaltungen/teaching-tomorrow-together
END:VEVENT
BEGIN:VTIMEZONE
TZID:Europe/Berlin
X-LIC-LOCATION:Europe/Berlin
BEGIN:DAYLIGHT
DTSTART:20230326T030000
TZNAME:CEST
TZOFFSETFROM:+0100
TZOFFSETTO:+0200
END:DAYLIGHT
END:VTIMEZONE
END:VCALENDAR
