BEGIN:VCALENDAR
VERSION:2.0
PRODID:-//Plone.org//NONSGML plone.app.event//EN
X-WR-TIMEZONE:Europe/Berlin
BEGIN:VEVENT
SUMMARY:Tag der Nachhaltigkeit 2026
DTSTART:20260513T120000
DTEND:20260513T173000
DTSTAMP:20260423T052420Z
UID:d6951558f265423783fd92716af4ce77@www.uni-bonn.de
CREATED:20260415T134848Z
DESCRIPTION:Liebe Studierende und Mitarbeitende der Universität Bonn\,\n\
 nhiermit laden wir Sie herzlich zum diesjährigen Tag der Nachhaltigkeit e
 in!\n\nEs erwarten Sie abwechslungsreiche Stände von Akteur*innen aus der
  gesamten Universität\, viele Mitmach-Aktionen\, Gewinnspiele und natürl
 ich leckeres Essen vom Studierendenwerk.\n\nKommen Sie vorbei und machen S
 ie mit – wir freuen uns auf Sie!\n\nIhr Team N(achhaltigkeit) der Univer
 sität Bonn\n(Prorektorat und Stabsstelle für Nachhaltigkeit und Green Of
 fice)
LAST-MODIFIED:20260416T055615Z
URL:https://www.uni-bonn.de/de/veranstaltungen/tag-der-nachhaltigkeit-2026
END:VEVENT
BEGIN:VTIMEZONE
TZID:Europe/Berlin
X-LIC-LOCATION:Europe/Berlin
BEGIN:DAYLIGHT
DTSTART:20260329T030000
TZNAME:CEST
TZOFFSETFROM:+0100
TZOFFSETTO:+0200
END:DAYLIGHT
END:VTIMEZONE
END:VCALENDAR
