BEGIN:VCALENDAR
VERSION:2.0
PRODID:-//Plone.org//NONSGML plone.app.event//EN
X-WR-TIMEZONE:Europe/Berlin
BEGIN:VEVENT
SUMMARY:Studierende beraten – Aufbau
DTSTART:20260506T090000
DTEND:20260506T170000
DTSTAMP:20260423T050611Z
UID:ff13b083a2d04d009ebd93b004724a61@www.uni-bonn.de
CREATED:20260116T100030Z
DESCRIPTION:Bei diesem Workshop handelt es sich um eine Veranstaltung im R
 ahmen des hochschuldidaktischen Qualifizierungsprogramms des Bonner Zentru
 ms für Hochschullehre (BZH). Die detaillierte Veranstaltungsbeschreibung 
 entnehmen Sie bitte unseren Internetseiten. Die hochschuldidaktischen Work
 shops des BZH stehen allen Lehrenden der Universität Bonn offen. Eine vor
 herige Anmeldung über Confluence ist erforderlich.
LAST-MODIFIED:20260116T103830Z
URL:https://www.uni-bonn.de/de/veranstaltungen/studierende-beraten-aufbau-
 2
END:VEVENT
BEGIN:VTIMEZONE
TZID:Europe/Berlin
X-LIC-LOCATION:Europe/Berlin
BEGIN:DAYLIGHT
DTSTART:20260329T030000
TZNAME:CEST
TZOFFSETFROM:+0100
TZOFFSETTO:+0200
END:DAYLIGHT
END:VTIMEZONE
END:VCALENDAR
