BEGIN:VCALENDAR
VERSION:2.0
PRODID:-//Plone.org//NONSGML plone.app.event//EN
X-WR-TIMEZONE:Europe/Berlin
BEGIN:VEVENT
SUMMARY:Stresemann-Lecture 2022
DTSTART;TZID=Europe/Berlin:20221208T190000
DTEND:20221208T203000
DTSTAMP:20260426T042805Z
UID:604e48959faf4a9cbc5291ac3f40d77c@www.uni-bonn.de
CREATED:20221206T095830Z
DESCRIPTION:Seit 2018 führt die Gustav-Stresemann-Stiftung die "Streseman
 n-Lecture" durch\, die dem Erbe Gustav Stresemanns gedenkt. Die diesjähri
 ge Lecture wird Prof. Hans-Ulrich Gumbrecht (Stanford) halten. Als vielfac
 h ausgezeichneter und international denkender Wissenschaftler steht er fü
 r eine kritische Betrachtung der Gegenwart.\nIn dem Vortrag wird er sich d
 er europäischen Idee annehmen. „Europa" - Eine alternde Utopie – so d
 er Titel der Reflexion über Vergangenheit\, Gegenwart und der Zukunft Eur
 opas. Gumbrecht trifft dabei einen besonderen Ton: „Von Europa als Proje
 kt nicht im Ton substantieller Hoffnung [...] zu reden\, gilt unter intell
 ektuellen und gebildeten Zeitgenossen des alten Kontinents [aber auch Nord
 amerikas] bis heute parteienübergreifend als ein Symptom schlechten polit
 ischen Geschmacks. [...] Zugleich macht sich eine europäische Müdigkeit 
 und eine außereuropäische Ungeduld gegenüber dem Projekt breit\, die in
  der Öffentlichkeit weitgehend eingeklammert werden.“
LAST-MODIFIED:20250906T011330Z
URL:https://www.uni-bonn.de/de/veranstaltungen/stresemann-lecture-2022
END:VEVENT
BEGIN:VTIMEZONE
TZID:Europe/Berlin
X-LIC-LOCATION:Europe/Berlin
BEGIN:STANDARD
DTSTART:20221030T020000
TZNAME:CET
TZOFFSETFROM:+0200
TZOFFSETTO:+0100
END:STANDARD
END:VTIMEZONE
END:VCALENDAR
