BEGIN:VCALENDAR
VERSION:2.0
PRODID:-//Plone.org//NONSGML plone.app.event//EN
X-WR-TIMEZONE:Europe/Berlin
BEGIN:VEVENT
SUMMARY:Start-up Summer School 2023
DTSTART;VALUE=DATE:20230731
DTEND;VALUE=DATE:20230805
DTSTAMP:20260425T144635Z
UID:7ffafc3e50c84d508641dd26cfc5c280@www.uni-bonn.de
CREATED:20230703T064321Z
DESCRIPTION:Nehmt an unserer "Start-up Summer School 2023 - Unternehmen na
 chhaltig gestalten" teil und taucht in nur 5 Tagen in die Welt der Gründu
 ngsszene ein. Vom 31. Juli bis 4. August bieten wir euch täglich von 9.30
  bis 17 Uhr ein abwechslungsreiches und inspirierendes Programm.\n\nWähre
 nd der Summer School werdet ihr von unseren erfahrenen Coaches begleitet\,
  die euch dabei unterstützen\, eigene Ideen zu entwickeln\, zu verfeinern
  und auf den finalen Pitch vorzubereiten. Wir vermitteln euch umfassendes 
 Wissen rund um das Thema Existenzgründung sowie die neuesten Methoden zur
  Erstellung innovativer Geschäftskonzepte.\n\nIhr müsst noch keine eigen
 e Gründungsidee haben\, um teilzunehmen! Wer jedoch bereits an einer Idee
  arbeitet\, kann diese gerne mitbringen und weiterentwickeln. Wir heißen 
 alle interessierten Personen herzlich willkommen.\n\nDie Summer School fin
 det am Campus Sankt Augustin der Hochschule Bonn-Rhein-Sieg und im Digital
 hub am Bonner Hauptbahnhof statt.
LAST-MODIFIED:20250906T011848Z
URL:https://www.uni-bonn.de/de/veranstaltungen/start-up-summer-school-2023
END:VEVENT
END:VCALENDAR
