BEGIN:VCALENDAR
VERSION:2.0
PRODID:-//Plone.org//NONSGML plone.app.event//EN
X-WR-TIMEZONE:Europe/Berlin
BEGIN:VEVENT
SUMMARY:Spielabend im Team
DTSTART;TZID=Europe/Berlin:20250711T190000
DTSTAMP:20260421T101325Z
UID:825934624f824dfaa2b8e04725308d1e@www.uni-bonn.de
CATEGORIES:International Office,6.3,Campus International,Internationaler C
 lub,Studierende,Promovierende
CREATED:20250624T085421Z
DESCRIPTION:Bist du bereit\, deinen Kopf\, Körper und deine Kreativität 
 herauszufordern? Komm vorbei für eine Nacht voller Spaß und freundschaft
 licher Konkurrenz! Bildet ein Team mit Freunden und stürzt euch in eine R
 eihe kreativer Spiele\, die eure Fähigkeiten auf die Probe stellen. (Inte
 rnationaler Club)
LAST-MODIFIED:20250906T032316Z
URL:https://www.uni-bonn.de/de/veranstaltungen/spielabend-im-team-1
END:VEVENT
BEGIN:VTIMEZONE
TZID:Europe/Berlin
X-LIC-LOCATION:Europe/Berlin
BEGIN:DAYLIGHT
DTSTART:20250330T030000
TZNAME:CEST
TZOFFSETFROM:+0100
TZOFFSETTO:+0200
END:DAYLIGHT
END:VTIMEZONE
END:VCALENDAR
