BEGIN:VCALENDAR
VERSION:2.0
PRODID:-//Plone.org//NONSGML plone.app.event//EN
X-WR-TIMEZONE:Europe/Berlin
BEGIN:VEVENT
SUMMARY:Semesterabschlusskonzert: Groovin‘
DTSTART;TZID=Europe/Berlin:20230716T180000
DTSTAMP:20260423T010016Z
UID:caa4429a06cd46ef8a75364ce9e4648f@www.uni-bonn.de
CREATED:20230613T154120Z
DESCRIPTION:Unter dem Motto „Groovin‘“ freuen wir uns Euch sowohl ne
 u erarbeitete Stücke sowie alte Klassiker präsentieren zu dürfen. Dies 
 geht von „Don’t Lose Sight“ von Lawrence über „Honey Pie“ von d
 en Beatles bis hin zu „Steppin‘ Out“ von Joe Jackson.\nMit großer V
 orfreude laden wir Euch herzlich zu unseren Semesterabschlusskonzerten ein
 .
LAST-MODIFIED:20250906T011830Z
URL:https://www.uni-bonn.de/de/veranstaltungen/semesterabschlusskonzert-gr
 oovin-2
END:VEVENT
BEGIN:VTIMEZONE
TZID:Europe/Berlin
X-LIC-LOCATION:Europe/Berlin
BEGIN:DAYLIGHT
DTSTART:20230326T030000
TZNAME:CEST
TZOFFSETFROM:+0100
TZOFFSETTO:+0200
END:DAYLIGHT
END:VTIMEZONE
END:VCALENDAR
