BEGIN:VCALENDAR
VERSION:2.0
PRODID:-//Plone.org//NONSGML plone.app.event//EN
X-WR-TIMEZONE:Europe/Berlin
BEGIN:VEVENT
SUMMARY:Science Pitch - Research at the GIUB in a nutshell
DTSTART;TZID=Europe/Berlin:20231108T121500
DTSTAMP:20260422T204652Z
UID:51a4bb21e67d460aa04eeb826af6cfdb@www.uni-bonn.de
CREATED:20231103T133626Z
DESCRIPTION:As part of the Lunch Lecture\, a "Science Pitch" with the scie
 ntific staff of the department will take place The young scientists will r
 eport on their research and offer the opportunity for a mutual exchange of
  information This is neither a science slam nor a competition The aim is t
 o get an overview of the spectrum of current research in the form of a ver
 y compact presentation of the research object and motivation\, methodologi
 cal approach\, exploitation context and the central core message And all t
 hat in just three minutes!
LAST-MODIFIED:20231103T134657Z
URL:https://www.uni-bonn.de/de/veranstaltungen/science-pitch-research-at-t
 he-giub-in-a-nutshell
END:VEVENT
BEGIN:VTIMEZONE
TZID:Europe/Berlin
X-LIC-LOCATION:Europe/Berlin
BEGIN:STANDARD
DTSTART:20231029T020000
TZNAME:CET
TZOFFSETFROM:+0200
TZOFFSETTO:+0100
END:STANDARD
END:VTIMEZONE
END:VCALENDAR
