BEGIN:VCALENDAR
VERSION:2.0
PRODID:-//Plone.org//NONSGML plone.app.event//EN
X-WR-TIMEZONE:Europe/Berlin
BEGIN:VEVENT
SUMMARY:Ringvorlesung Nachhaltigkeit
DTSTART:20260428T161500
DTEND:20260428T174500
DTSTAMP:20260426T043103Z
UID:9e903824c54d4c5cbf8eb0cb15d68b0f@www.uni-bonn.de
CREATED:20260417T143736Z
DESCRIPTION:Anthropozän – ein begriffliches Erdbeben Was bedeutet das f
 ür Nachhaltigkeitskonzepte?
LAST-MODIFIED:20260420T115805Z
URL:https://www.uni-bonn.de/de/veranstaltungen/ringvorlesung-nachhaltigkei
 t-7
END:VEVENT
BEGIN:VTIMEZONE
TZID:Europe/Berlin
X-LIC-LOCATION:Europe/Berlin
BEGIN:DAYLIGHT
DTSTART:20260329T030000
TZNAME:CEST
TZOFFSETFROM:+0100
TZOFFSETTO:+0200
END:DAYLIGHT
END:VTIMEZONE
END:VCALENDAR
