BEGIN:VCALENDAR
VERSION:2.0
PRODID:-//Plone.org//NONSGML plone.app.event//EN
X-WR-TIMEZONE:Europe/Berlin
BEGIN:VEVENT
SUMMARY:Rheinkiesel-Führung
DTSTART:20240809T160000
DTEND:20240809T170000
DTSTAMP:20260424T074502Z
UID:b66f5a4bba244bb7af0669bfcc979b0d@www.uni-bonn.de
CREATED:20240704T151351Z
DESCRIPTION:Hier erfahren sowohl Kinder als auch Erwachsene allerhand Inte
 ressantes über die Entstehung und Geschichte unseres Flusses und seiner F
 racht. Gemeint sind damit nicht die Kohlen auf den Schiffen\, sondern die 
 vielen Rheinkiesel\, die verschiedener sind als man meint. Manche von Ihne
 n sind bereits 400 Millionen Jahre alt und haben weite Wege hinter sich. A
 ndere sind mit knapp 20 Millionen Jahren noch jung und kommen aus dem nahe
 n Siebengebirge.\n\nAuf unserer kostenlosen und interaktiven Führung am R
 hein lernen wir die Gesteine und ihre Weite Reise bis Bonn besser kennen. 
 Dabei entdecken wir Millionen Jahre alte Geschichten und sammeln selber. M
 it etwas Glück können wir wahre Schätze finden! Fossilien? Gold?\n\nDas
  Beiheft zur Führung mit allen Informationen kann vor Ort gegen eine Spen
 de mitgenommen werden.\n\nWeitere Information oder bei Interesse an privat
 en Gruppen-Führungen: goldfuss@uni-bonn.de\n\nEine Anmeldung ist erforder
 lich
LAST-MODIFIED:20250906T033936Z
URL:https://www.uni-bonn.de/de/veranstaltungen/rheinkiesel-fuehrung-10
END:VEVENT
BEGIN:VTIMEZONE
TZID:Europe/Berlin
X-LIC-LOCATION:Europe/Berlin
BEGIN:DAYLIGHT
DTSTART:20240331T030000
TZNAME:CEST
TZOFFSETFROM:+0100
TZOFFSETTO:+0200
END:DAYLIGHT
END:VTIMEZONE
END:VCALENDAR
