BEGIN:VCALENDAR
VERSION:2.0
PRODID:-//Plone.org//NONSGML plone.app.event//EN
X-WR-TIMEZONE:Europe/Berlin
BEGIN:VEVENT
SUMMARY:Reinhard Mohn – ein „Jahrhundertunternehmer“?
DTSTART;TZID=Europe/Berlin:20211109T190000
DTEND:20211109T203000
DTSTAMP:20260424T013358Z
UID:a529d0f54b404b1390fa663773ae4b41@www.uni-bonn.de
CREATED:20211028T102321Z
DESCRIPTION:Vortrag von Prof. Dr. Joachim Scholtyseck\nReinhard Mohn ist w
 esentlich für den Erfolg des heutigen Bertelsmann-Konzerns verantwortlich
 . Auf welche Weise wurde unter ihm das im ostwestfälischen Gütersloh beh
 eimatete mittelständische Familienunternehmen Bertelsmann innerhalb wenig
 er Jahrzehnte zu einem Global Player? Im Vortrag soll Mohn als Pionier ein
 es neuen Management-Geistes vorgestellt werden. Mit seinen Vorstellungen f
 lacher Hierarchien wurde er seit den 1950er Jahren für die Bundesrepublik
  wegweisend. Auch der Abschied vom Denken in patriarchalischen Strukturen\
 , die konsequente Delegation von Verantwortung und das Streben nach einem 
 Unternehmertum\, das sich der gesellschaftlichen Verantwortung bewusst ist
  und zugleich höchst erfolgreich wirtschaftet\, sollen erörtert werden.
LAST-MODIFIED:20250906T030541Z
URL:https://www.uni-bonn.de/de/veranstaltungen/reinhard-mohn-ein-jahrhunde
 rtunternehmer
END:VEVENT
BEGIN:VTIMEZONE
TZID:Europe/Berlin
X-LIC-LOCATION:Europe/Berlin
BEGIN:STANDARD
DTSTART:20211031T020000
TZNAME:CET
TZOFFSETFROM:+0200
TZOFFSETTO:+0100
END:STANDARD
END:VTIMEZONE
END:VCALENDAR
