BEGIN:VCALENDAR
VERSION:2.0
PRODID:-//Plone.org//NONSGML plone.app.event//EN
X-WR-TIMEZONE:Europe/Berlin
BEGIN:VEVENT
SUMMARY:Prof. González - Warhead Engineering for Cysteine Proteases
DTSTART:20260622T171500
DTEND:20260622T183000
DTSTAMP:20260425T215554Z
UID:d733d58056c94011aee269ea270a90d7@www.uni-bonn.de
CREATED:20260423T113859Z
DESCRIPTION:Prof. Florenci V. González\nWarhead Engineering for Cysteine 
 Proteases: Tuning Reversible and Irreversible Covalency\nDiskussionsleitun
 g: Prof. Dr. M. Gütschow\nPharmazeutisches Kolloquium
LAST-MODIFIED:20260423T120633Z
URL:https://www.uni-bonn.de/de/veranstaltungen/prof-gonzalez-warhead-engin
 eering-for-cysteine-proteases
END:VEVENT
BEGIN:VTIMEZONE
TZID:Europe/Berlin
X-LIC-LOCATION:Europe/Berlin
BEGIN:DAYLIGHT
DTSTART:20260329T030000
TZNAME:CEST
TZOFFSETFROM:+0100
TZOFFSETTO:+0200
END:DAYLIGHT
END:VTIMEZONE
END:VCALENDAR
