BEGIN:VCALENDAR
VERSION:2.0
PRODID:-//Plone.org//NONSGML plone.app.event//EN
X-WR-TIMEZONE:Europe/Berlin
BEGIN:VEVENT
SUMMARY:Prof. Dr.  A. Junker - Toward CD73-Directed Theranostics
DTSTART:20260511T171500
DTEND:20260511T183000
DTSTAMP:20260425T215614Z
UID:95f45f43f2b4441da4835e2922d42994@www.uni-bonn.de
CREATED:20260423T112641Z
DESCRIPTION:Pharmazeutisches Kolloquium der Fachgruppe Pharmazie\, Lecture
  17:15-18:30\nProf. Dr. Anna Junker\nToward CD73-Directed Theranostics: Fr
 om PET Tracers to Radioligand Therapy\nDiskussionsleitung: Prof. Dr. Chris
 ta E. Müller
LAST-MODIFIED:20260423T120633Z
URL:https://www.uni-bonn.de/de/veranstaltungen/prof-dr-a-junker-toward-cd7
 3-directed-theranostics
END:VEVENT
BEGIN:VTIMEZONE
TZID:Europe/Berlin
X-LIC-LOCATION:Europe/Berlin
BEGIN:DAYLIGHT
DTSTART:20260329T030000
TZNAME:CEST
TZOFFSETFROM:+0100
TZOFFSETTO:+0200
END:DAYLIGHT
END:VTIMEZONE
END:VCALENDAR
