BEGIN:VCALENDAR
VERSION:2.0
PRODID:-//Plone.org//NONSGML plone.app.event//EN
X-WR-TIMEZONE:Europe/Berlin
BEGIN:VEVENT
SUMMARY:Pro-Motion: Frühlingsbrunch
DTSTART;TZID=Europe/Berlin:20260425T103000
DTEND;TZID=Europe/Berlin:20260425T123000
DTSTAMP:20260419T025113Z
UID:9709a8328de347c3a3fbd5c394627e3b@www.uni-bonn.de
CATEGORIES:International Office,6.3,Campus International,Pro-Motion,Promov
 ierende
CREATED:20260417T093644Z
DESCRIPTION:Pro-Motion: Frühlingsbrunch und Networking für international
 e Promovierende. Anmeldung erforderlich!
LAST-MODIFIED:20260417T094949Z
URL:https://www.uni-bonn.de/de/veranstaltungen/pro-motion-fruehlingsbrunch
END:VEVENT
BEGIN:VTIMEZONE
TZID:Europe/Berlin
X-LIC-LOCATION:Europe/Berlin
BEGIN:DAYLIGHT
DTSTART:20260329T030000
TZNAME:CEST
TZOFFSETFROM:+0100
TZOFFSETTO:+0200
END:DAYLIGHT
END:VTIMEZONE
END:VCALENDAR
