BEGIN:VCALENDAR
VERSION:2.0
PRODID:-//Plone.org//NONSGML plone.app.event//EN
X-WR-TIMEZONE:Europe/Berlin
BEGIN:VEVENT
SUMMARY:Podiumsrunde  „Zweifel am Studium?"
DTSTART;TZID=Europe/Berlin:20260310T150000
DTEND;TZID=Europe/Berlin:20260310T170000
DTSTAMP:20260419T232515Z
UID:5cc1ae6647314fe3a2086d7fa1a00dc3@www.uni-bonn.de
CATEGORIES:ZSB,Studienzweifel,Besser digital studieren
CREATED:20211116T081416Z
DESCRIPTION:Bei der Podiumsrunde sprechen Expert*innen über die Themen Un
 terstützungsmöglichkeiten\, Perspektiven und Alternativen bei Studienzwe
 ifel. Während der Podiumsrunde kann das Publikum individuelle Fragen ste
 llen:\n- Welche Angebote/Unterstützung gibt es bei Studienzweifel?\n- Wel
 che sinnvollen Perspektiven oder Alternativen gibt es bei Studienzweifel? 
 \n- Wie funktioniert ein Wechsel bzw. Ausstieg? Was muss ich beachten?\n- 
 Was sagen Arbeitgeber dazu\, dass ich mein Studium gewechselt/ abgebrochen
  habe? Wie stelle ich das in meinem Lebenslauf dar?\n- Wie kann ich Unters
 tützung durch mein Umfeld erfahren?/ Wie sage ich es meinen Eltern?\n- Wa
 s muss ich beim Thema Finanzierung beachten?\nUnterstützer*innen auf dem 
 Podium: Agentur für Arbeit Bonn/Rhein-Sieg | Allgemeine Studienberatung H
 ochschule Koblenz | Career Service | Handwerkskammer zu Köln | Industrie 
 und Handelskammer Bonn/Rhein-Sieg | Zentrale Studienberatung | Studienauss
 teiger*innen
LAST-MODIFIED:20251027T155907Z
URL:https://www.uni-bonn.de/de/veranstaltungen/podiumsrunde-studienzweifel
END:VEVENT
BEGIN:VTIMEZONE
TZID:Europe/Berlin
X-LIC-LOCATION:Europe/Berlin
BEGIN:STANDARD
DTSTART:20251026T020000
TZNAME:CET
TZOFFSETFROM:+0200
TZOFFSETTO:+0100
END:STANDARD
END:VTIMEZONE
END:VCALENDAR
