BEGIN:VCALENDAR
VERSION:2.0
PRODID:-//Plone.org//NONSGML plone.app.event//EN
X-WR-TIMEZONE:Europe/Berlin
BEGIN:VEVENT
SUMMARY:Pitfalls to Avoid?! Experienced Reviewers Share Their Secrets
DTSTART;TZID=Europe/Berlin:20230328T100000
DTEND;TZID=Europe/Berlin:20230328T113000
DTSTAMP:20260422T171556Z
UID:26cb60c9b9e345c6a5875b2ed0864ef5@www.uni-bonn.de
CREATED:20221024T104631Z
DESCRIPTION:Pitfalls to Avoid?! Experienced Reviewers Share Their Secrets 
 of Successful Grant Applications\n\nWhat do experts pay particular attenti
 on to when reviewing grant applications? Which factors often lead to rejec
 tion? What makes a successful application? Is there a recipe for success?
LAST-MODIFIED:20250906T011304Z
URL:https://www.uni-bonn.de/de/veranstaltungen/pitfalls-to-avoid-experienc
 ed-reviewers-share-their-secrets
END:VEVENT
BEGIN:VTIMEZONE
TZID:Europe/Berlin
X-LIC-LOCATION:Europe/Berlin
BEGIN:DAYLIGHT
DTSTART:20230326T030000
TZNAME:CEST
TZOFFSETFROM:+0100
TZOFFSETTO:+0200
END:DAYLIGHT
END:VTIMEZONE
END:VCALENDAR
