BEGIN:VCALENDAR
VERSION:2.0
PRODID:-//Plone.org//NONSGML plone.app.event//EN
X-WR-TIMEZONE:Europe/Berlin
BEGIN:VEVENT
SUMMARY:PhD Cafe
DTSTART:20260529T190000
DTEND:20260529T210000
DTSTAMP:20260426T020114Z
UID:86f40fdcd3cb44e9b3992e43662a514b@www.uni-bonn.de
CREATED:20260421T142847Z
DESCRIPTION:Vernetzungstreffen für internationale Promovierende
LAST-MODIFIED:20260423T080715Z
URL:https://www.uni-bonn.de/de/veranstaltungen/phd-cafe-1
END:VEVENT
BEGIN:VTIMEZONE
TZID:Europe/Berlin
X-LIC-LOCATION:Europe/Berlin
BEGIN:DAYLIGHT
DTSTART:20260329T030000
TZNAME:CEST
TZOFFSETFROM:+0100
TZOFFSETTO:+0200
END:DAYLIGHT
END:VTIMEZONE
END:VCALENDAR
