BEGIN:VCALENDAR
VERSION:2.0
PRODID:-//Plone.org//NONSGML plone.app.event//EN
X-WR-TIMEZONE:Europe/Berlin
BEGIN:VEVENT
SUMMARY:Peer-Feedback anleiten und begleiten
DTSTART:20240702T090000
DTEND:20240702T123000
DTSTAMP:20260422T015943Z
UID:2e64315a7414449a9e1c2c7a5cee08a8@www.uni-bonn.de
CREATED:20240223T135629Z
DESCRIPTION:Bei diesem Workshop handelt es sich um eine Veranstaltung im R
 ahmen des hochschuldidaktischen Qualifizierungsprogramms des Bonner Zentru
 ms für Hochschullehre (BZH). Den detaillierten Veranstaltungskommentar en
 tnehmen Sie bitte unseren Internetseiten. Die hochschuldidaktischen Worksh
 ops des BZH stehen allen Lehrenden der Universität Bonn offen\; eine vorh
 erige Anmeldung über unser Online-Anmeldeformular ist erforderlich!
LAST-MODIFIED:20250906T012135Z
URL:https://www.uni-bonn.de/de/veranstaltungen/peer-feedback-anleiten-und-
 begleiten-1
END:VEVENT
BEGIN:VTIMEZONE
TZID:Europe/Berlin
X-LIC-LOCATION:Europe/Berlin
BEGIN:DAYLIGHT
DTSTART:20240331T030000
TZNAME:CEST
TZOFFSETFROM:+0100
TZOFFSETTO:+0200
END:DAYLIGHT
END:VTIMEZONE
END:VCALENDAR
