BEGIN:VCALENDAR
VERSION:2.0
PRODID:-//Plone.org//NONSGML plone.app.event//EN
X-WR-TIMEZONE:Europe/Berlin
BEGIN:VEVENT
SUMMARY:OER finden und nutzen
DTSTART;TZID=Europe/Berlin:20231214T130000
DTEND;TZID=Europe/Berlin:20231214T163000
DTSTAMP:20260422T013405Z
UID:84bda29e2e0f41a1b3658b66122d18cc@www.uni-bonn.de
CREATED:20230802T123852Z
DESCRIPTION:Bei dieser Veranstaltung handelt es sich um ein Angebot des Bo
 nner Zentrums für Hochschullehre (BZH)\, das sich an alle Lehrenden und s
 tudentischen Tutor*innen und Mentor*innen der Universität Bonn richtet. D
 en detaillierten Veranstaltungskommentar und das Anmeldeverfahren entnehme
 n Sie bitte unseren Internetseiten\; eine vorherige Anmeldung ist erforder
 lich!
LAST-MODIFIED:20250906T011905Z
URL:https://www.uni-bonn.de/de/veranstaltungen/oer-finden-und-nutzen
END:VEVENT
BEGIN:VTIMEZONE
TZID:Europe/Berlin
X-LIC-LOCATION:Europe/Berlin
BEGIN:STANDARD
DTSTART:20231029T020000
TZNAME:CET
TZOFFSETFROM:+0200
TZOFFSETTO:+0100
END:STANDARD
END:VTIMEZONE
END:VCALENDAR
