BEGIN:VCALENDAR
VERSION:2.0
PRODID:-//Plone.org//NONSGML plone.app.event//EN
X-WR-TIMEZONE:Europe/Berlin
BEGIN:VEVENT
SUMMARY:Novel computational approaches to understand seizures
DTSTART:20230621T160000
DTEND:20230621T173000
DTSTAMP:20260423T074210Z
UID:fa68a1657aee42ad985681fa8d8ebe2f@www.uni-bonn.de
CREATED:20230504T123802Z
DESCRIPTION:Hybrid-Veranstaltung (Zoom und vor Ort) des Bonner Epilepsie S
 eminar:\n"Novel computational approaches to understand generation and prop
 agation of seizures"\nVortrag von Dr. Yujiang Wang\, PhD\, CNNP Lab\, Inte
 rdisciplinary Computing and Complex BioSystems Group\, School of Computing
 \, Newcastle University\, Newcastle upon Tyne\, United Kingdom
LAST-MODIFIED:20250906T011617Z
URL:https://www.uni-bonn.de/de/veranstaltungen/novel-computational-approac
 hes-to-understand-seizures
END:VEVENT
BEGIN:VTIMEZONE
TZID:Europe/Berlin
X-LIC-LOCATION:Europe/Berlin
BEGIN:DAYLIGHT
DTSTART:20230326T030000
TZNAME:CEST
TZOFFSETFROM:+0100
TZOFFSETTO:+0200
END:DAYLIGHT
END:VTIMEZONE
END:VCALENDAR
