BEGIN:VCALENDAR
VERSION:2.0
PRODID:-//Plone.org//NONSGML plone.app.event//EN
X-WR-TIMEZONE:Europe/Berlin
BEGIN:VEVENT
SUMMARY:NISIS Autumn School
DTSTART;VALUE=DATE:20221031
DTEND;VALUE=DATE:20221105
DTSTAMP:20260423T002949Z
UID:3f5c86765ae64d9d93dbe8d0fb1ce0a4@www.uni-bonn.de
CREATED:20221018T120507Z
DESCRIPTION:The Centre for Dependency and Slavery Studies at Bonn Universi
 ty (BCDSS) and the Netherlands Interuniversity School of Islamic Studies (
 NISIS) are inviting abstracts for an Autumn School\, aimed at Master-level
  and PhD researchers\, on the theme of “Coercion\, slavery\, and relatio
 ns of dependency in the Islamicate world”\, to be held at Bonn Universit
 y from 31 October to 4 November 2022.
LAST-MODIFIED:20250906T011256Z
URL:https://www.uni-bonn.de/de/veranstaltungen/nisis-autumn-school
END:VEVENT
END:VCALENDAR
