BEGIN:VCALENDAR
VERSION:2.0
PRODID:-//Plone.org//NONSGML plone.app.event//EN
X-WR-TIMEZONE:Europe/Berlin
BEGIN:VEVENT
SUMMARY:NeuVa Art Lab Workshop
DTSTART:20260418T140000
DTEND:20260418T173000
DTSTAMP:20260420T233640Z
UID:50e3a230ec6244ac9ed7605d6ddb6f44@www.uni-bonn.de
CREATED:20260324T184754Z
DESCRIPTION:NeuVa Art Lab invites everyone interested to learn about the s
 tructure and functions of the neurovascular system in the brain by craftin
 g mandalas using makramee.
LAST-MODIFIED:20260325T063423Z
URL:https://www.uni-bonn.de/de/veranstaltungen/neuva-art-lab-workshop
END:VEVENT
BEGIN:VTIMEZONE
TZID:Europe/Berlin
X-LIC-LOCATION:Europe/Berlin
BEGIN:DAYLIGHT
DTSTART:20260329T030000
TZNAME:CEST
TZOFFSETFROM:+0100
TZOFFSETTO:+0200
END:DAYLIGHT
END:VTIMEZONE
END:VCALENDAR
