BEGIN:VCALENDAR
VERSION:2.0
PRODID:-//Plone.org//NONSGML plone.app.event//EN
X-WR-TIMEZONE:Europe/Berlin
BEGIN:VEVENT
SUMMARY:Museum seminar in Evolutionary and Environmental Genomics
DTSTART;TZID=Europe/Berlin:20220607T150000
DTEND:20220607T160000
DTSTAMP:20260422T182411Z
UID:a0f401518f2a44a09e4de6e856e47027@www.uni-bonn.de
CREATED:20220519T060740Z
DESCRIPTION:Tristan Cordier from NORCE Climate\, Bergen\, Norway\, who wil
 l talk about "implementing environmental genomics and machine learning for
  routine biomonitoring"\nMuseum seminar in Evolutionary and Environmental 
 Genomics\nThis seminar series brings together experts in the fields of com
 parative genomics\, evolutionary biology and environmental genomics to ZFM
 K. Talks include presentations on empirical as well as theoretical and tec
 hnical developments of the field.\nAll talks are currently scheduled as On
 line Only format. Please register by emailing to meegene@leibniz-zfmk.de t
 o receive login details.
LAST-MODIFIED:20221130T101615Z
URL:https://www.uni-bonn.de/de/veranstaltungen/museum-seminar-in-evolution
 ary-and-environmental-genomics-13
END:VEVENT
BEGIN:VTIMEZONE
TZID:Europe/Berlin
X-LIC-LOCATION:Europe/Berlin
BEGIN:DAYLIGHT
DTSTART:20220327T030000
TZNAME:CEST
TZOFFSETFROM:+0100
TZOFFSETTO:+0200
END:DAYLIGHT
END:VTIMEZONE
END:VCALENDAR
