BEGIN:VCALENDAR
VERSION:2.0
PRODID:-//Plone.org//NONSGML plone.app.event//EN
X-WR-TIMEZONE:Europe/Berlin
BEGIN:VEVENT
SUMMARY:Moderation im Tutorium
DTSTART;TZID=Europe/Berlin:20231121T090000
DTEND;TZID=Europe/Berlin:20231121T170000
DTSTAMP:20260425T053217Z
UID:5f8b5acec0b64df7b35c7ed2da3eb2db@www.uni-bonn.de
CREATED:20230802T122536Z
DESCRIPTION:Bei dieser Veranstaltung handelt es sich um ein Angebot des Bo
 nner Zentrums für Hochschullehre (BZH)\, das sich an alle studentischen T
 utor*innen und Mentor*innen der Universität Bonn richtet. Den detailliert
 en Veranstaltungskommentar und das Anmeldeverfahren entnehmen Sie bitte un
 seren Internetseiten\; eine vorherige Anmeldung ist erforderlich!
LAST-MODIFIED:20250906T011904Z
URL:https://www.uni-bonn.de/de/veranstaltungen/moderation-im-tutorium
END:VEVENT
BEGIN:VTIMEZONE
TZID:Europe/Berlin
X-LIC-LOCATION:Europe/Berlin
BEGIN:STANDARD
DTSTART:20231029T020000
TZNAME:CET
TZOFFSETFROM:+0200
TZOFFSETTO:+0100
END:STANDARD
END:VTIMEZONE
END:VCALENDAR
