BEGIN:VCALENDAR
VERSION:2.0
PRODID:-//Plone.org//NONSGML plone.app.event//EN
X-WR-TIMEZONE:Europe/Berlin
BEGIN:VEVENT
SUMMARY:MIB Expert Talk - Medical Imaging & AI
DTSTART;TZID=Europe/Berlin:20220314T160000
DTEND:20220314T164500
DTSTAMP:20260424T051614Z
UID:5fe8d121ca31434793d8a71047f6a57f@www.uni-bonn.de
CREATED:20220302T123945Z
DESCRIPTION:Title: The Next Generation of AI in Medicine —Towards Deep F
 ederated Learning in Healthcare\n\nSpeaker: Prof. Shadi Albarqouni\, Radio
 logy\, University Clinic Bonn\n\nIn this talk\, a brief introduction about
  the clinical workflow and the common challenges for AI in Medicine will b
 e presented before diving into the federated learning topic\, its challeng
 es\, and potential solutions.\n\nAfter a 30-minute talk\, the presentation
  will be followed by an open discussion. \n\nPlease register here: https:/
 /mib-center.de/registrierung \nYou will receive the Login for Zoom shortly
  before the event.
LAST-MODIFIED:20221130T101616Z
URL:https://www.uni-bonn.de/de/veranstaltungen/mib-expert-talk-medical-ima
 ging-ai
END:VEVENT
BEGIN:VTIMEZONE
TZID:Europe/Berlin
X-LIC-LOCATION:Europe/Berlin
BEGIN:STANDARD
DTSTART:20211031T020000
TZNAME:CET
TZOFFSETFROM:+0200
TZOFFSETTO:+0100
END:STANDARD
END:VTIMEZONE
END:VCALENDAR
