BEGIN:VCALENDAR
VERSION:2.0
PRODID:-//Plone.org//NONSGML plone.app.event//EN
X-WR-TIMEZONE:Europe/Berlin
BEGIN:VEVENT
SUMMARY:Meet the Rector am 1. Juli 2021
DTSTART;TZID=Europe/Berlin:20210701T170000
DTEND:20210701T190000
DTSTAMP:20260420T164301Z
UID:f52091303edb4902af3dc7142679e413@www.uni-bonn.de
CREATED:20210625T045555Z
DESCRIPTION:Begrüßungs- und Kennenlernveranstaltung für Studierende mit
  Studienbeginn zum Wintersemester 2020/2021 im Uni-Hauptgebäude\, mit Tal
 k-Programm in der Aula und anschließendem Austausch im Arkadenhof.\n\nFü
 r die Teilnahme ist eine Anmeldung sowie der Nachweis eines negativem Coro
 natests oder der vollständigen Impfung oder Genesung erforderlich. Die Ve
 ranstaltung findet unter den geltenden rechtlichen Rahmenbedingungen gemä
 ß Coronaschutzverordnung statt. Alle Infos auf uni-bonn.de/meet-the-recto
 r.
LAST-MODIFIED:20221130T101616Z
URL:https://www.uni-bonn.de/de/veranstaltungen/meet-the-rector-am-1-juli-2
 021
END:VEVENT
BEGIN:VTIMEZONE
TZID:Europe/Berlin
X-LIC-LOCATION:Europe/Berlin
BEGIN:DAYLIGHT
DTSTART:20210328T030000
TZNAME:CEST
TZOFFSETFROM:+0100
TZOFFSETTO:+0200
END:DAYLIGHT
END:VTIMEZONE
END:VCALENDAR
