BEGIN:VCALENDAR
VERSION:2.0
PRODID:-//Plone.org//NONSGML plone.app.event//EN
X-WR-TIMEZONE:Europe/Berlin
BEGIN:VEVENT
SUMMARY:Marvin's 1st Anniversary: 365 Days of Supercomputing
DTSTART:20250325T101500
DTEND:20250325T170000
DTSTAMP:20260424T083106Z
UID:ac1a1116a59f42b5b752e7133e99b765@www.uni-bonn.de
CREATED:20250130T105632Z
DESCRIPTION:An alle HPC-Nutzer*innen\, interessierte Wissenschaftler*innen
  und Studierende\, \nam 25. März 2025 werden wir den ersten Jahrestag uns
 eres Supercomputers „Marvin“ feiern. \n\nSie sind herzlich eingeladen\
 , an unserer interaktiven Veranstaltung mit den folgenden Highlights teilz
 unehmen:\n"Geburtstags"-Feier: Feiern Sie mit uns den einjährigen Jahrest
 ag der Öffnung von Marvin für die Nutzer.\nVortrag "The Hitchhikers Guid
 e to the Future of HPC:  Processors\, People\, and Programming"“ von Tim
 othy Mattson\, Entwickler von OpenMP und anerkannter Experte auf diesem Ge
 biet.\nMost Interesting Results Competition: Präsentationen der interessa
 ntesten Forschungsergebnisse\, die auf Marvin gerechnet wurden\, mit Absti
 mmung zur Ermittlung der Gewinner.\nNetworking & Zusammenarbeit: Knüpfen 
 Sie Kontakte mit anderen Forschern und tauschen Sie Erkenntnisse aus.
LAST-MODIFIED:20250906T020811Z
URL:https://www.uni-bonn.de/de/veranstaltungen/marvins-1st-anniversary-365
 -days-of-supercomputing
END:VEVENT
BEGIN:VTIMEZONE
TZID:Europe/Berlin
X-LIC-LOCATION:Europe/Berlin
BEGIN:STANDARD
DTSTART:20241027T020000
TZNAME:CET
TZOFFSETFROM:+0200
TZOFFSETTO:+0100
END:STANDARD
END:VTIMEZONE
END:VCALENDAR
