BEGIN:VCALENDAR
VERSION:2.0
PRODID:-//Plone.org//NONSGML plone.app.event//EN
X-WR-TIMEZONE:Europe/Berlin
BEGIN:VEVENT
SUMMARY:„LIEBE!“ – oder „Die Erfindung der Romantik“
DTSTART:20260418T200000
DTSTAMP:20260425T145329Z
UID:c6ab74d66cad409d8de2516f18627a27@www.uni-bonn.de
CREATED:20260311T104441Z
DESCRIPTION:Ein literarisch-musikalisches Rendezvous mit dem betörend unk
 onventionellen Schriftsteller-\, Liebes- & Ehepaar BETTINA BRENTANO und AC
 HIM VON ARNIM\n\nmit\nLea Geyer\nTimo Kählert\n&\nmusizierenden Gästen\n
 von & mit\nAnja Stadler\n\n\nEintritt frei –\nWir freuen uns jedoch sehr
  über eine Spende zugunsten der kulturellen Arbeit in der Schlosskirche!\
 n\nReservierung von Einlasskarten per E-Mail an litterarium@uni-bonn.de\n\
 nEine Veranstaltung in Kooperation mit Kulturkomplizen e.V.
LAST-MODIFIED:20260311T111716Z
URL:https://www.uni-bonn.de/de/veranstaltungen/liebe-oder-die-erfindung-de
 r-romantik-1
END:VEVENT
BEGIN:VTIMEZONE
TZID:Europe/Berlin
X-LIC-LOCATION:Europe/Berlin
BEGIN:DAYLIGHT
DTSTART:20260329T030000
TZNAME:CEST
TZOFFSETFROM:+0100
TZOFFSETTO:+0200
END:DAYLIGHT
END:VTIMEZONE
END:VCALENDAR
