BEGIN:VCALENDAR
VERSION:2.0
PRODID:-//Plone.org//NONSGML plone.app.event//EN
X-WR-TIMEZONE:Europe/Berlin
BEGIN:VEVENT
SUMMARY:Lehrportfolio
DTSTART;TZID=Europe/Berlin:20211116T100000
DTEND:20211116T123000
DTSTAMP:20260419T163759Z
UID:fb1ea5bb894c4996b4bbf294127a373e@www.uni-bonn.de
CREATED:20210924T104834Z
DESCRIPTION:Bei diesem Workshop handelt es sich um eine Veranstaltung im R
 ahmen des hochschuldidaktischen Qualifizierungsprogramms des Bonner Zentru
 ms für Hochschullehre (BZH). Den detaillierten Veranstaltungskommentar en
 tnehmen Sie bitte unseren Internetseiten. Die hochschuldidaktischen Worksh
 ops des BZH stehen allen Lehrenden der Universität Bonn offen\; eine vorh
 erige Anmeldung über unser Online-Anmeldeformular ist erforderlich!
LAST-MODIFIED:20221130T101620Z
URL:https://www.uni-bonn.de/de/veranstaltungen/lehrportfolio-1
END:VEVENT
BEGIN:VTIMEZONE
TZID:Europe/Berlin
X-LIC-LOCATION:Europe/Berlin
BEGIN:STANDARD
DTSTART:20211031T020000
TZNAME:CET
TZOFFSETFROM:+0200
TZOFFSETTO:+0100
END:STANDARD
END:VTIMEZONE
END:VCALENDAR
