BEGIN:VCALENDAR
VERSION:2.0
PRODID:-//Plone.org//NONSGML plone.app.event//EN
X-WR-TIMEZONE:Europe/Berlin
BEGIN:VEVENT
SUMMARY:Lecture Series: Get To Know Your Associated Partners
DTSTART;TZID=Europe/Berlin:20260304T110000
DTSTAMP:20260423T005959Z
UID:d055a52467a74b68955f8239aba71ea1@www.uni-bonn.de
CATEGORIES:International Office,NeurotechEU,Studierende,Promovierende,Fors
 chende,Forschung
CREATED:20260302T121355Z
DESCRIPTION:Ziel der Vorlesungsreihe ist die Vorstellung der Labore und Un
 ternehmen\, die Neurotechnologie in ganz Europa prägen. Im Auftakt der Vo
 rlesungsreihe spricht Prof. Dr. Jan Gründermann vom DZNE über Plastizit
 ät neuronaler Netzwerke bei der Gedächtnisbildung. \n\nNach der Vorlesun
 g folgt ein Abschnitt zu Karriere und Möglichkeiten und connectet PIs und
  Studierende mit den Unternehmen und Laboren. Damit werden Möglichkeiten 
 zu Mobilität\, Praktika\, Themenideen für Abschlussarbeiten unterstützt
 .\n\n(NeurotechEU)
LAST-MODIFIED:20260302T124204Z
URL:https://www.uni-bonn.de/de/veranstaltungen/lecture-series-get-to-know-
 your-associated-partners
END:VEVENT
BEGIN:VTIMEZONE
TZID:Europe/Berlin
X-LIC-LOCATION:Europe/Berlin
BEGIN:STANDARD
DTSTART:20251026T020000
TZNAME:CET
TZOFFSETFROM:+0200
TZOFFSETTO:+0100
END:STANDARD
END:VTIMEZONE
END:VCALENDAR
