BEGIN:VCALENDAR
VERSION:2.0
PRODID:-//Plone.org//NONSGML plone.app.event//EN
X-WR-TIMEZONE:Europe/Berlin
BEGIN:VEVENT
SUMMARY:Lecture on NHR Services for HPC!
DTSTART:20260126T110000
DTEND:20260126T130000
DTSTAMP:20260426T012055Z
UID:35c2bfed7ca24be9b6103e898f30c332@www.uni-bonn.de
CREATED:20251201T164457Z
DESCRIPTION:Wir möchten Sie auf eine Veranstaltung aufmerksam machen\, di
 e sich an alle Nutzer von High Performance Computing (HPC) und diejenigen 
 richtet\, die HPC-Nutzer werden möchten. \n\nDie Veranstaltung wird von T
 RA Modelling organisiert\, steht jedoch allen Interessierten aus verschied
 enen Fachbereichen offen. \n\nBitte leiten Sie diese Informationen gerne a
 n Ihre Kollegen weiter. \n\nDie Veranstaltung findet in englischer Sprache
  statt.
LAST-MODIFIED:20251201T225453Z
URL:https://www.uni-bonn.de/de/veranstaltungen/lecture-on-nhr-services-for
 -hpc
END:VEVENT
BEGIN:VTIMEZONE
TZID:Europe/Berlin
X-LIC-LOCATION:Europe/Berlin
BEGIN:STANDARD
DTSTART:20251026T020000
TZNAME:CET
TZOFFSETFROM:+0200
TZOFFSETTO:+0100
END:STANDARD
END:VTIMEZONE
END:VCALENDAR
