BEGIN:VCALENDAR
VERSION:2.0
PRODID:-//Plone.org//NONSGML plone.app.event//EN
X-WR-TIMEZONE:Europe/Berlin
BEGIN:VEVENT
SUMMARY:Langer Abend der Studienberatung
DTSTART;TZID=Europe/Berlin:20250626T170000
DTEND;TZID=Europe/Berlin:20250626T200000
DTSTAMP:20260422T134238Z
UID:6db54625d9654319b27a104e8f8bba68@www.uni-bonn.de
CATEGORIES:Studieninteressierte,ZSB
CREATED:20200622T125159Z
DESCRIPTION:Diese Veranstaltung richtet sich insbesondere an Studienintere
 ssierte\, die zum kommenden Wintersemester ein Studium aufnehmen möchten 
 und noch Orientierungs- und Entscheidungshilfe bei der Studienfachwahl ben
 ötigen. In der Zeit von 17 - 20 Uhr können Sie vielfältige Beratungs- u
 nd Informationsmöglichkeiten nutzen.
LAST-MODIFIED:20250906T010912Z
URL:https://www.uni-bonn.de/de/veranstaltungen/langer-abend-der-studienber
 atung
END:VEVENT
BEGIN:VTIMEZONE
TZID:Europe/Berlin
X-LIC-LOCATION:Europe/Berlin
BEGIN:DAYLIGHT
DTSTART:20250330T030000
TZNAME:CEST
TZOFFSETFROM:+0100
TZOFFSETTO:+0200
END:DAYLIGHT
END:VTIMEZONE
END:VCALENDAR
