BEGIN:VCALENDAR
VERSION:2.0
PRODID:-//Plone.org//NONSGML plone.app.event//EN
X-WR-TIMEZONE:Europe/Berlin
BEGIN:VEVENT
SUMMARY:Länderabend Südosteuropa
DTSTART;TZID=Europe/Berlin:20210608T193000
DTEND:20210608T220000
DTSTAMP:20260422T030810Z
UID:4fe99073232e44ce911b2a676681c881@www.uni-bonn.de
CREATED:20210514T120531Z
DESCRIPTION:Ihr plant ein Auslandssemester und möchtet euch über eure Pl
 äne austauschen und wertvolles Insiderwissen von Returnees erhalten? Ihr 
 habt Lust\, andere deutsche und internationale Studierende\, die sich für
  südosteuropäische Länder interessieren\, kennenzulernen? Dann seid ihr
  hier genau richtig! \nDie Veranstaltung findet über Zoom statt. Der Zuga
 ngslink wird am Veranstaltungstag ab 12:00 Uhr im Veranstaltungskalender d
 er Webseite Studium und Praktikum im Ausland veröffentlicht.
LAST-MODIFIED:20221130T101616Z
URL:https://www.uni-bonn.de/de/veranstaltungen/laenderabend-suedosteuropa
END:VEVENT
BEGIN:VTIMEZONE
TZID:Europe/Berlin
X-LIC-LOCATION:Europe/Berlin
BEGIN:DAYLIGHT
DTSTART:20210328T030000
TZNAME:CEST
TZOFFSETFROM:+0100
TZOFFSETTO:+0200
END:DAYLIGHT
END:VTIMEZONE
END:VCALENDAR
