BEGIN:VCALENDAR
VERSION:2.0
PRODID:-//Plone.org//NONSGML plone.app.event//EN
X-WR-TIMEZONE:Europe/Berlin
BEGIN:VEVENT
SUMMARY:Kreative Knete-Tage
DTSTART;TZID=Europe/Berlin:20260311T170000
DTSTAMP:20260421T131057Z
UID:1a8ece0e300d458d9bc39f2bb588b6b2@www.uni-bonn.de
CATEGORIES:International Office,6.3,Campus International,Internationaler C
 lub,Studierende,Promovierende
CREATED:20260225T095340Z
DESCRIPTION:Kommt zu unserem zweiteiligen Event und erlebt jede Menge krea
 tive Freude! Beim ersten Termin formt ihr eure ganz eigenen Figuren aus Kn
 ete und lasst eurer Fantasie freien Lauf. Beim zweiten Termin werden eure 
 Kunstwerke mit Farbe zum Leben erweckt – jetzt heißt es: Pinsel raus un
 d kreativ werden! Zweiteiliges Event: \n\nErster Termin: 11. März/ Zweite
 r Termin: 14. März \n\n(Internationaler Club)
LAST-MODIFIED:20260225T101502Z
URL:https://www.uni-bonn.de/de/veranstaltungen/kreative-knete-tage
END:VEVENT
BEGIN:VTIMEZONE
TZID:Europe/Berlin
X-LIC-LOCATION:Europe/Berlin
BEGIN:STANDARD
DTSTART:20251026T020000
TZNAME:CET
TZOFFSETFROM:+0200
TZOFFSETTO:+0100
END:STANDARD
END:VTIMEZONE
END:VCALENDAR
