BEGIN:VCALENDAR
VERSION:2.0
PRODID:-//Plone.org//NONSGML plone.app.event//EN
X-WR-TIMEZONE:Europe/Berlin
BEGIN:VEVENT
SUMMARY:Kinderuni: Die Welt wird Stadt – Metropolen im Globalen Süden
DTSTART;TZID=Europe/Berlin:20250526T170000
DTEND;TZID=Europe/Berlin:20250526T180000
DTSTAMP:20260422T192702Z
UID:1b94139f56b2485c82643e43e78ad5ed@www.uni-bonn.de
CREATED:20250110T130551Z
DESCRIPTION:Kinderuni-Vorlesung zum Thema: Die Welt wird Stadt – Metropo
 len im Globalen Süden\n\nMittlerweile lebt mehr als die Hälfte der Mensc
 hen weltweit in Städten. Allerdings ist das nicht in allen Teilen der Wel
 t so. In Asien und Afrika beispielsweise\, leben noch mehr Menschen in Dö
 rfern als in Städten. Aber das verändert sich derzeit. Vor allem in Asie
 n entstehen so genannte „Megastädte“. Diese unterscheiden sich stark 
 von den Städten in Deutschland oder Europa. In der Vorlesung wird erklär
 t\, welche Folgen „Urbanisierung“ hat und was besonders and den Städt
 en „im Globalen Süden“ ist.
LAST-MODIFIED:20250906T040229Z
URL:https://www.uni-bonn.de/de/veranstaltungen/kinderuni-vorlesung-26-05-2
 025
END:VEVENT
BEGIN:VTIMEZONE
TZID:Europe/Berlin
X-LIC-LOCATION:Europe/Berlin
BEGIN:DAYLIGHT
DTSTART:20250330T030000
TZNAME:CEST
TZOFFSETFROM:+0100
TZOFFSETTO:+0200
END:DAYLIGHT
END:VTIMEZONE
END:VCALENDAR
