BEGIN:VCALENDAR
VERSION:2.0
PRODID:-//Plone.org//NONSGML plone.app.event//EN
X-WR-TIMEZONE:Europe/Berlin
BEGIN:VEVENT
SUMMARY:Kinderuni-Vorlesung: Auf den Spuren von Dschingis Khan...
DTSTART;TZID=Europe/Berlin:20250210T170000
DTEND;TZID=Europe/Berlin:20250210T180000
DTSTAMP:20260423T003844Z
UID:6321dd1c4d2e4154b25232177229fdce@www.uni-bonn.de
CREATED:20250110T130551Z
DESCRIPTION:Auf den Spuren von Dschingis Khan – Wie die Geowissenschafte
 n bei Ausgrabungen in der Mongolei unterstützen \n\nDschingis Khan war de
 r Begründer des Mongolischen Reiches. Er herrschte von 1208 bis 1227 und 
 gründete auch 1220 die spätere Hauptstadt Karakorum in der heutigen zent
 ralen Mongolei. In dieser Zeit wurden ebenfalls andere feste Siedlungen un
 d dauerhafte Bauten auf dem Mongolischen Plateau errichtet\, was für Step
 pennomaden\, die in Jurten leben\, ungewöhnlich ist. Bereits 1368 zerfiel
  das größte Reich in der Weltgeschichte\, auch Karakorum sowie andere St
 ädte und Siedlungen wurden zerstört oder aufgelassen. Die Ursachen hierf
 ür sind weitgehend unbekannt. Archäolog*innen aus Bonn\, die schon viele
  Jahre in der Mongolei Ausgrabungen durchführen\, gehen nun im Rahmen ein
 es großen Verbundprojektes gemeinsam mit Geolog*innen und anderen Naturwi
 ssenschaftler*innen dieser Frage nach...
LAST-MODIFIED:20250906T040424Z
URL:https://www.uni-bonn.de/de/veranstaltungen/kinderuni-vorlesung-10-02-2
 025
END:VEVENT
BEGIN:VTIMEZONE
TZID:Europe/Berlin
X-LIC-LOCATION:Europe/Berlin
BEGIN:STANDARD
DTSTART:20241027T020000
TZNAME:CET
TZOFFSETFROM:+0200
TZOFFSETTO:+0100
END:STANDARD
END:VTIMEZONE
END:VCALENDAR
