BEGIN:VCALENDAR
VERSION:2.0
PRODID:-//Plone.org//NONSGML plone.app.event//EN
X-WR-TIMEZONE:Europe/Berlin
BEGIN:VEVENT
SUMMARY:Kinderuni: Kann die Erde 10.000.000.000 Menschen (ver-)tragen?
DTSTART;TZID=Europe/Berlin:20260202T170000
DTEND;TZID=Europe/Berlin:20260202T180000
DTSTAMP:20260423T003844Z
UID:b87b3d2c425843caa943a376b90373c8@www.uni-bonn.de
CREATED:20250110T130551Z
DESCRIPTION:Kinderuni-Vorlesung zum Thema: Kann die Erde 10.000.000.000 Me
 nschen (ver-)tragen?\n\nAuf der Erde leben mehr als 8 Milliarden Menschen.
  Die Bevölkerungszahl wächst weiter\, wahrscheinlich auf mehr als 10 Mil
 liarden. Kann die Erde so viele Menschen verkraften? Jeder Mensch braucht 
 genug Lebensmittel\, Raum zum Wohnen\, Energie\, ausreichend Wasser und ei
 ne gesunde Umwelt. Die einen sagen: Wir sind zu viele\, damit es für alle
  reicht. Die anderen meinen: Wenn wir bewusst leben und sorgsam mit der Um
 welt umgehen\, dann reicht es für alle. \n\nIn der Vorlesung zur Bevölke
 rungsgeographie überlegen wir gemeinsam\, wer recht haben könnte.
LAST-MODIFIED:20251216T140523Z
URL:https://www.uni-bonn.de/de/veranstaltungen/kinderuni-vorlesung-02-02-2
 026
END:VEVENT
BEGIN:VTIMEZONE
TZID:Europe/Berlin
X-LIC-LOCATION:Europe/Berlin
BEGIN:STANDARD
DTSTART:20251026T020000
TZNAME:CET
TZOFFSETFROM:+0200
TZOFFSETTO:+0100
END:STANDARD
END:VTIMEZONE
END:VCALENDAR
