BEGIN:VCALENDAR
VERSION:2.0
PRODID:-//Plone.org//NONSGML plone.app.event//EN
X-WR-TIMEZONE:Europe/Berlin
BEGIN:VEVENT
SUMMARY:"KI Erklärt" KI ethische Bedenken
DTSTART:20251120T170000
DTEND:20251120T210000
DTSTAMP:20260424T072210Z
UID:d460000562f4486b909bb54e02519777@www.uni-bonn.de
CREATED:20251106T115240Z
DESCRIPTION:KI in Suchmaschinen\, am Telefon oder in der Rüstungsindustri
 e – täglich überbieten sich die Schlagzeilen zu neuen Entwicklungen. W
 ährend auf europäischer Ebene die KI-Verordnung verabschiedet wurde\, en
 tstehen bereits neue technologische Möglichkeiten.\nWie können wir KI et
 hisch nutzen und Werte in ihre Gestaltung integrieren? Der Vortrag beleuch
 tet ethische Bedenken und Risiken für Individuen und den demokratischen R
 echtsstaat und zeigt auf\, wie wir als Gesellschaft zu einer verantwortung
 svollen Technikgestaltung beitragen können.
LAST-MODIFIED:20251106T123030Z
URL:https://www.uni-bonn.de/de/veranstaltungen/ki-erklaert-ki-ethische-bed
 enken
END:VEVENT
BEGIN:VTIMEZONE
TZID:Europe/Berlin
X-LIC-LOCATION:Europe/Berlin
BEGIN:STANDARD
DTSTART:20251026T020000
TZNAME:CET
TZOFFSETFROM:+0200
TZOFFSETTO:+0100
END:STANDARD
END:VTIMEZONE
END:VCALENDAR
