BEGIN:VCALENDAR
VERSION:2.0
PRODID:-//Plone.org//NONSGML plone.app.event//EN
X-WR-TIMEZONE:Europe/Berlin
BEGIN:VEVENT
SUMMARY:Katekisama Open Courses Anmeldefrist
DTSTART;VALUE=DATE:20260208
DTEND;VALUE=DATE:20260209
DTSTAMP:20260422T182304Z
UID:ae335e937f7c479194563a3c5526f4e1@www.uni-bonn.de
CREATED:20260108T113255Z
DESCRIPTION:Hintergrund\n\nDas Katekisama Open Courses-Programm ist ein ne
 ues Modell der akademischen Zusammenarbeit und Kooperation zwischen den Un
 iversitäten Basel (Schweiz)\, Ghana (Ghana)\, Tokio (Japan)\, São Paulo 
 (Brasilien) und Bonn (Deutschland). Das Programm bietet Studierenden und W
 issenschaftlern dynamische Plattform für interdisziplinäre\, kooperative
  Lehre und Forschung\, die es ihnen ermöglicht\, die globalen Realitäten
  von heute kritisch zu untersuchen und zu analysieren. Wissenschaftler und
  Doktoranden profitieren von der Exzellenz\, Erfahrung und globalen Expert
 ise unserer Partnerinstitutionen in den Sozial- und Geisteswissenschaften 
 sowie von dieser neuen und exklusiven Form der akademischen Mobilität.\n\
 nDas Kursangebot findet grundsätzlich online und auf Englisch statt.
LAST-MODIFIED:20260317T085412Z
URL:https://www.uni-bonn.de/de/veranstaltungen/katekisama-open-courses-anm
 eldefrist-2
END:VEVENT
END:VCALENDAR
