BEGIN:VCALENDAR
VERSION:2.0
PRODID:-//Plone.org//NONSGML plone.app.event//EN
X-WR-TIMEZONE:Europe/Berlin
BEGIN:VEVENT
SUMMARY:Joseph C. Miller Memorial Lecture by Nitin Varma
DTSTART:20230320T161500
DTEND:20230320T180000
DTSTAMP:20260424T053044Z
UID:83d0dc65fe23432390eba3cfed970d7b@www.uni-bonn.de
CREATED:20230301T141014Z
DESCRIPTION:Dr. Nitin Varma will unwrap biographies of servitude\, drawing
  upon a range of legal and ego documents from nineteenth-century northern 
 India. Based on a “microhistorical” methodological approach\, it recon
 structs the life trajectories of individuals who worked as domestic servan
 ts in Anglo-Indian households.
LAST-MODIFIED:20250906T011431Z
URL:https://www.uni-bonn.de/de/veranstaltungen/joseph-c-miller-memorial-le
 cture-by-nitin-varma
END:VEVENT
BEGIN:VTIMEZONE
TZID:Europe/Berlin
X-LIC-LOCATION:Europe/Berlin
BEGIN:STANDARD
DTSTART:20221030T020000
TZNAME:CET
TZOFFSETFROM:+0200
TZOFFSETTO:+0100
END:STANDARD
END:VTIMEZONE
END:VCALENDAR
